BEGIN:VCALENDAR
VERSION:2.0
PRODID:icalendar-ruby
CALSCALE:GREGORIAN
BEGIN:VEVENT
DTSTAMP:20260423T091604Z
UID:af5c90a9-323b-461f-b02c-9af3a1825847
DTSTART;VALUE=DATE:20260506
DESCRIPTION:Property ID# 606235\, Locatoin: Holmwood Auction Rooms\, 397-39
 9 Ilam Road\, Ilam \, Time: 10:00AM
SUMMARY:Auction for 6 Walsall Street
END:VEVENT
END:VCALENDAR
