BEGIN:VCALENDAR
VERSION:2.0
PRODID:icalendar-ruby
CALSCALE:GREGORIAN
BEGIN:VEVENT
DTSTAMP:20260422T090501Z
UID:64cc49f4-8678-40e1-beea-aa954e2b1211
DTSTART;VALUE=DATE:20260218
DESCRIPTION:Property ID# 602916\, Time: 12:00PM
SUMMARY:Auction for 25 Kaitorete Drive
END:VEVENT
END:VCALENDAR
